{"text_format":"3","workbook":"xlsx","n_sheets":2,"sheets":["预报名表","汇总用表"],"read":"whole","date_system":"1900"}

{"sheet":"预报名表","index":0,"n_rows":45,"n_cols":9,"rows_kept":45,"merged":[[0,0,0,8],[1,0,1,1],[1,2,1,3],[1,4,1,6],[1,7,1,8],[2,0,9,0],[2,7,7,8],[5,4,5,6],[6,4,6,6],[7,4,7,6],[10,0,11,0],[12,0,20,0],[21,0,22,0],[23,0,24,0],[23,4,23,8],[24,4,24,8],[25,0,25,1],[25,4,25,8],[26,1,26,8],[27,1,27,8],[28,0,35,0],[35,1,35,8],[37,0,37,6],[40,0,40,8],[41,0,41,8],[42,0,42,8],[43,0,43,8],[44,0,44,8]]}
["考试录用公务员预报名信息采集表"]
["岗位代码",{"$nulls":3},"是否服从调剂"]
["个人情况","姓名",null,"性别",null,"民族",null,"（请在此处插入本人近期2寸免冠正面彩照,jpg格式，1MB以下）"]
[null,"政治面貌",null,"出生日期",null,"婚姻情况"]
[null,"入党、团时间",null,"籍贯",null,"身份证号"]
[null,"联系地址","省（自治区）","市（盟）","详　细　地　址"]
[null,"家庭住址"]
[null,"现户口所在地"]
[null,"有无纹身",null,"有无慢性疾病",null,"有无残疾",null,"身高（CM）"]
[null,"宗教信仰",null,"手机",null,"固定电话",null,"体重（KG）"]
["最高学历","毕业院校",null,"主修专业",null,"本科录取批次",null,"是否蒙汉兼通"]
[null,"毕业时间",null,"专业类别",null,"学历",null,"学位"]
["学习经历","阶段","起始年月","截止年月","学校","专业","学位","学习形式","证明人"]
[null,"小学"]
[null,"初中"]
[null,"高中"]
[null,"大学"]
[null,"双学位"]
[null,"硕士研究生"]
[null,"博士研究生"]
[]
["外语水平","第一外语",null,"等级证书",null,"考试成绩",null,"口语水平"]
[null,"第二外语",null,"等级证书",null,"考试成绩",null,"口语水平"]
["专长","计算机水平",null,"计算机证书"]
[null,"驾驶证",null,"其他特长"]
["持有出国境证件",null,null,"出国境经历"]
["获奖情况"]
["处罚情况","（此项不能为空，如未受过处罚请填“无”）"]
["家庭成员及　主要社会关系","关系","姓名","出生年月","工作单位","政治面貌","职务/退休","联系方式","出国境情况"]
[null,"父亲"]
[null,"母亲"]
[null,{"$f":"IF(G4=\"已婚\",\"配偶\",\"\")","v":""}]
[]
[]
[]
[null,"注：以上应填写父母、兄弟姐妹、伯、叔、姑、舅、姨等，已婚还应填写配偶及子女。"]
[]
["本人保证以上所填内容真实、有效，如有虚假愿承担一切责任。 本人签字：",{"$nulls":6},"日期："]
[]
["填　表　须　知"]
["1、以上蓝色单元格选中时，右侧有下拉三角按钮，点击三角按钮后选择填写内容。"]
["2、报考蒙汉兼通职位的考生，笔试必须选用蒙古文试卷并用蒙古文作答，面试时必须用汉语回答。对不按规定语言、文字答题的按零分处理。"]
["3、该信息采集表填写完毕、保存时，请将文件名统一命名为“预报名+XXX（姓名）+XXXXXX（身份证号后6位）”，如：预报名王兵12013X，命名时不得有空格。"]
["4、将此表及一张近期全身站立生活彩照电子版（电子照片）作为邮件的附件，发送至电子邮箱：hlbezfjgybm@163.com  ，邮件主题及照片命名方式同此表。"]
["5、不得删除《汇总用表》，否则将无法采集您的信息。请勿破解保护密码、随意修改此表。"]

{"sheet":"汇总用表","index":1,"n_rows":3,"n_cols":75,"rows_kept":3,"merged":[[0,3,0,23],[0,24,0,31],[0,32,0,33],[0,34,0,44],[0,63,0,68],[0,69,0,74],[1,10,1,12],[1,13,1,15],[1,34,1,38],[1,40,1,44],[1,47,1,54],[1,55,1,62],[2,34,2,38],[2,40,2,44],[2,47,2,54],[2,55,2,62]]}
["考生编码",null,null,"个人情况",{"$nulls":20},"学习情况",{"$nulls":7},"外语水平",null,"专长",{"$nulls":28},"父亲",{"$nulls":5},"母亲"]
["姓名＋身份证后6位","岗位代码","是否服从调剂","姓名","性别","民族","出生日期","政治面貌","婚姻情况","身份证号","家庭住址",null,null,"现户口所在地",null,null,"身高","体重","有无纹身","有无慢性疾病","有无残疾","宗教信仰","手机","固定电话","毕业院校","毕业时间","学历","学位","主修专业","专业类别","本科录取批次","蒙汉兼通","第一外语","等级证书","计算机证书",{"$nulls":4},"驾驶证","其他特长",{"$nulls":4},"持有出国境证件","出国境情况","获奖情况",{"$nulls":7},"处罚情况",{"$nulls":7},"姓名","工作单位","政治面貌","职务/退休","联系方式","出国境情况","姓名","工作单位","政治面貌","职务/退休","联系方式","出国境情况"]
[{"$f":"D3&RIGHT(J3,6)","v":"00"},{"$f":"预报名表!C2","v":0},{"$f":"预报名表!H2","v":0},{"$f":"预报名表!C3","v":0},{"$f":"预报名表!E3","v":0},{"$f":"预报名表!G3","v":0},{"$f":"预报名表!E4","v":0},{"$f":"预报名表!C4","v":0},{"$f":"预报名表!G4","v":0},{"$f":"预报名表!G5","v":0},{"$f":"预报名表!C7","v":0},{"$f":"预报名表!D7","v":0},{"$f":"预报名表!E7","v":0},{"$f":"预报名表!C8","v":0},{"$f":"预报名表!D8","v":0},{"$f":"预报名表!E8","v":0},{"$f":"预报名表!I9","v":0},{"$f":"预报名表!I10","v":0},{"$f":"预报名表!C9","v":0},{"$f":"预报名表!E9","v":0},{"$f":"预报名表!G9","v":0},{"$f":"预报名表!C10","v":0},{"$f":"预报名表!E10","v":0},{"$f":"预报名表!G10","v":0},{"$f":"预报名表!C11","v":0},{"$f":"预报名表!C12","v":0},{"$f":"预报名表!G12","v":0},{"$f":"预报名表!I12","v":0},{"$f":"预报名表!E11","v":0},{"$f":"预报名表!E12","v":0},{"$f":"预报名表!G11","v":0},{"$f":"预报名表!I11","v":0},{"$f":"预报名表!C22","v":0},{"$f":"预报名表!E22","v":0},{"$f":"预报名表!E24","v":0},{"$nulls":4},{"$f":"预报名表!C25","v":0},{"$f":"预报名表!E25","v":0},{"$nulls":4},{"$f":"预报名表!C26","v":0},{"$f":"预报名表!E26","v":0},{"$f":"预报名表!B27","v":0},{"$nulls":7},{"$f":"预报名表!B28","v":"（此项不能为空，如未受过处罚请填“无”）"},{"$nulls":7},{"$f":"预报名表!C30","v":0},{"$f":"预报名表!E30","v":0},{"$f":"预报名表!F30","v":0},{"$f":"预报名表!G30","v":0},{"$f":"预报名表!H30","v":0},{"$f":"预报名表!I30","v":0},{"$f":"预报名表!C31","v":0},{"$f":"预报名表!E31","v":0},{"$f":"预报名表!F31","v":0},{"$f":"预报名表!G31","v":0},{"$f":"预报名表!H31","v":0},{"$f":"预报名表!I31","v":0}]